BEGIN:VCALENDAR
VERSION:2.0
PRODID:-//wp-events-plugin.com//5.99912//EN
TZID:Europe/Berlin
X-WR-TIMEZONE:Europe/Berlin
BEGIN:VEVENT
UID:0-350@strassdorf.albverein.eu
DTSTART;TZID=Europe/Berlin:20260506T150000
DTEND;TZID=Europe/Berlin:20260506T150000
DTSTAMP:20260411T172725Z
URL:https://strassdorf.albverein.eu/events/seniorenwanderung-mai/
SUMMARY:Seniorenwanderung Mai
DESCRIPTION:Treffpunkt zur Bildung von Fahrgemeinschaften um 15.00 Uhr beim
  Bezirksamt. Diesmal bleiben wir in der näheren Umgebung--Reitprechts Sch
 oenbronn.\n\nEine anschließende Einkehr ist vorgesehen.\n\nWanderführer 
 sind Hertha und Franz Haas
LOCATION:Bezirksamt Straßdorf\, Donzdorfer Straße 16\, Schwäbisch Gmünd
 -Straßdorf\, Deutschland
GEO:48.7761215;9.795356099999935
X-APPLE-STRUCTURED-LOCATION;VALUE=URI;X-ADDRESS=Donzdorfer Straße 16\, Sch
 wäbisch Gmünd-Straßdorf\, Deutschland;X-APPLE-RADIUS=100;X-TITLE=Bezirk
 samt Straßdorf:geo:48.7761215,9.795356099999935
END:VEVENT
BEGIN:VTIMEZONE
TZID:Europe/Berlin
X-LIC-LOCATION:Europe/Berlin
BEGIN:DAYLIGHT
DTSTART:20260329T030000
TZOFFSETFROM:+0100
TZOFFSETTO:+0200
TZNAME:CEST
END:DAYLIGHT
END:VTIMEZONE
END:VCALENDAR