BEGIN:VCALENDAR
VERSION:2.0
PRODID:-//wp-events-plugin.com//5.99912//EN
TZID:Europe/Berlin
X-WR-TIMEZONE:Europe/Berlin
BEGIN:VEVENT
UID:0-342@strassdorf.albverein.eu
DTSTART;TZID=Europe/Berlin:20260628T000000
DTEND;TZID=Europe/Berlin:20260628T000000
DTSTAMP:20251110T171619Z
URL:https://strassdorf.albverein.eu/events/schiesstal-gruenhalde/
SUMMARY:Schießtal - Grünhalde
DESCRIPTION:Halbtagswanderung -\n\nNachmittags\; ca. 10 km\, etwa 3 Stunden
  Gehzeit\n\nMarianne Zengerle\n\n&nbsp\;\n\n&nbsp\;
END:VEVENT
BEGIN:VTIMEZONE
TZID:Europe/Berlin
X-LIC-LOCATION:Europe/Berlin
BEGIN:DAYLIGHT
DTSTART:20260329T030000
TZOFFSETFROM:+0100
TZOFFSETTO:+0200
TZNAME:CEST
END:DAYLIGHT
END:VTIMEZONE
END:VCALENDAR