BEGIN:VCALENDAR
VERSION:2.0
PRODID:-//wp-events-plugin.com//5.99912//EN
TZID:Europe/Berlin
X-WR-TIMEZONE:Europe/Berlin
BEGIN:VEVENT
UID:0-345@strassdorf.albverein.eu
DTSTART;TZID=Europe/Berlin:20260516T000000
DTEND;TZID=Europe/Berlin:20260516T000000
DTSTAMP:20251208T154806Z
URL:https://strassdorf.albverein.eu/events/mtb-marathon-bike-the-rock/
SUMMARY:MTB Marathon Bike the rock
DESCRIPTION:Wir fahren als Team unserer Ortgruppe beim BTR Mountainbike Mar
 athon mit.\n\nDabei gilt es Ausdauer und Geschicklichkeit auf dem MTB zu z
 eigen\, um diese wunderbare Strecke zu absolvieren. Besonders ambitioniert
 e Teilnehmen können sich auch für die erweiterte Strecke melden. Zur Vor
 bereitung treffen wir uns vorab zu wöchentlich Trainingsfahrten z.B. aufs
  Kalte Feld\, Hornberg oder Hohenstaufen.\n\n26km und ca 700Hm\n\nPeter Ri
 emer – Tel.: 07171 908 70 44\n\nGäste herzlich willkommen.
END:VEVENT
BEGIN:VTIMEZONE
TZID:Europe/Berlin
X-LIC-LOCATION:Europe/Berlin
BEGIN:DAYLIGHT
DTSTART:20260329T030000
TZOFFSETFROM:+0100
TZOFFSETTO:+0200
TZNAME:CEST
END:DAYLIGHT
END:VTIMEZONE
END:VCALENDAR