BEGIN:VCALENDAR
VERSION:2.0
PRODID:-//wp-events-plugin.com//5.99912//EN
TZID:Europe/Berlin
X-WR-TIMEZONE:Europe/Berlin
BEGIN:VEVENT
UID:0-347@strassdorf.albverein.eu
DTSTART;TZID=Europe/Berlin:20260704T063000
DTEND;TZID=Europe/Berlin:20260704T190000
DTSTAMP:20260308T174535Z
URL:https://strassdorf.albverein.eu/events/busausfahrt-tannheim/
SUMMARY:Busausfahrt Tannheim
DESCRIPTION:Busausfahrt ins Tannheimer Tal am 4. Juli 2026\n\nDer SAV Stra
 ßdorf lädt alle Mitglieder herzlich zu unserer gemeinsamen Busausfahrt i
 ns Tannheimer Tal ein.\n\nAblauf:\n\n 	Abfahrt: 06:30 Uhr\n 	Rückreise: c
 a. 16:00 Uhr\n 	Abschluss: Gemeinsames Beisammensein im heimischen Stadtwi
 rt.\n\nAktivitäten vor Ort:\nDamit für jeden etwas dabei ist\, teilen wi
 r uns vor Ort je nach Interesse in Gruppen auf:\n\n 	Anspruchsvolle Bergto
 ur auf den Einstein.\n 	Bequem mit dem Pendelbus zum Vilsalpsee.\n 	Gemüt
 liche Wanderung entlang des Vilsalpsees.\n 	Bummeln und Verweilen im Ort.\
 n\nAnmeldung:\nDie Anmeldung erfolgt über eine Überweiseung von 20\,– 
 Euro. Bitte melden Sie sich bis spätestens 30.04.2026 an\, der Zeitpunkt 
 der Überweisung entscheidet über die Teilnahme. (Die Bankverbindung entn
 ehmen Sie bitte dem Jahresprogramm.)\n\nWichtig: Bei der Überweisung bitt
 e Vor- und Zuname\, die Personenanzahl sowie eine Handynummer für eventue
 lle Rückfragen angeben.\n\nBei weiteren Fragen wenden Sie sich bitte an M
 anfred Nussbaum 0173 3455012.\n\nLeitung: Manfred Nussbaum / Peter Riemer
END:VEVENT
BEGIN:VTIMEZONE
TZID:Europe/Berlin
X-LIC-LOCATION:Europe/Berlin
BEGIN:DAYLIGHT
DTSTART:20260329T030000
TZOFFSETFROM:+0100
TZOFFSETTO:+0200
TZNAME:CEST
END:DAYLIGHT
END:VTIMEZONE
END:VCALENDAR